BEGIN:VCALENDAR
VERSION:2.0
PRODID:-//Friends Of The Village - ECPv6.15.20//NONSGML v1.0//EN
CALSCALE:GREGORIAN
METHOD:PUBLISH
X-WR-CALNAME:Friends Of The Village
X-ORIGINAL-URL:https://fotv.org.au
X-WR-CALDESC:Events for Friends Of The Village
REFRESH-INTERVAL;VALUE=DURATION:PT1H
X-Robots-Tag:noindex
X-PUBLISHED-TTL:PT1H
BEGIN:VTIMEZONE
TZID:Australia/Sydney
BEGIN:STANDARD
TZOFFSETFROM:+1100
TZOFFSETTO:+1000
TZNAME:AEST
DTSTART:20220402T160000
END:STANDARD
BEGIN:DAYLIGHT
TZOFFSETFROM:+1000
TZOFFSETTO:+1100
TZNAME:AEDT
DTSTART:20221001T160000
END:DAYLIGHT
BEGIN:STANDARD
TZOFFSETFROM:+1100
TZOFFSETTO:+1000
TZNAME:AEST
DTSTART:20230401T160000
END:STANDARD
BEGIN:DAYLIGHT
TZOFFSETFROM:+1000
TZOFFSETTO:+1100
TZNAME:AEDT
DTSTART:20230930T160000
END:DAYLIGHT
BEGIN:STANDARD
TZOFFSETFROM:+1100
TZOFFSETTO:+1000
TZNAME:AEST
DTSTART:20240406T160000
END:STANDARD
BEGIN:DAYLIGHT
TZOFFSETFROM:+1000
TZOFFSETTO:+1100
TZNAME:AEDT
DTSTART:20241005T160000
END:DAYLIGHT
END:VTIMEZONE
BEGIN:VEVENT
DTSTART;TZID=Australia/Sydney:20230108T140000
DTEND;TZID=Australia/Sydney:20230108T160000
DTSTAMP:20260426T023410
CREATED:20211214T135252Z
LAST-MODIFIED:20221210T040459Z
UID:4745-1673186400-1673193600@fotv.org.au
SUMMARY:2023 Stage 4 Meet-Up
DESCRIPTION:Sign-up details sent via private channels.  Contact comms@llv.community if you didn’t get these.
URL:https://fotv.org.au/event/2022-stage-4-meet-up/
LOCATION:Northbridge Baths\, 2 Widgiewa Rd\, Northbridge\, NSW\, 2063\, Australia
CATEGORIES:Community Event
ATTACH;FMTTYPE=image/jpeg:https://fotv.org.au/wp-content/uploads/2021/01/Baths-scaled.jpg
END:VEVENT
END:VCALENDAR