BEGIN:VCALENDAR
VERSION:2.0
PRODID:-//Friends Of The Village - ECPv6.15.20//NONSGML v1.0//EN
CALSCALE:GREGORIAN
METHOD:PUBLISH
X-ORIGINAL-URL:https://fotv.org.au
X-WR-CALDESC:Events for Friends Of The Village
REFRESH-INTERVAL;VALUE=DURATION:PT1H
X-Robots-Tag:noindex
X-PUBLISHED-TTL:PT1H
BEGIN:VTIMEZONE
TZID:Australia/Sydney
BEGIN:STANDARD
TZOFFSETFROM:+1100
TZOFFSETTO:+1000
TZNAME:AEST
DTSTART:20220402T160000
END:STANDARD
BEGIN:DAYLIGHT
TZOFFSETFROM:+1000
TZOFFSETTO:+1100
TZNAME:AEDT
DTSTART:20221001T160000
END:DAYLIGHT
BEGIN:STANDARD
TZOFFSETFROM:+1100
TZOFFSETTO:+1000
TZNAME:AEST
DTSTART:20230401T160000
END:STANDARD
BEGIN:DAYLIGHT
TZOFFSETFROM:+1000
TZOFFSETTO:+1100
TZNAME:AEDT
DTSTART:20230930T160000
END:DAYLIGHT
BEGIN:STANDARD
TZOFFSETFROM:+1100
TZOFFSETTO:+1000
TZNAME:AEST
DTSTART:20240406T160000
END:STANDARD
BEGIN:DAYLIGHT
TZOFFSETFROM:+1000
TZOFFSETTO:+1100
TZNAME:AEDT
DTSTART:20241005T160000
END:DAYLIGHT
END:VTIMEZONE
BEGIN:VEVENT
DTSTART;TZID=Australia/Sydney:20230206T093000
DTEND;TZID=Australia/Sydney:20230206T103000
DTSTAMP:20260425T000634
CREATED:20221209T223048Z
LAST-MODIFIED:20230116T044939Z
UID:6521-1675675800-1675679400@fotv.org.au
SUMMARY:Kindy First Day - coffee morning
DESCRIPTION:
URL:https://fotv.org.au/event/kindy-first-day-coffee-morning/
LOCATION:Lindfield Learning Village\, 100 Eton Rd\, Lindfield\, NSW\, 2070\, Australia
ATTACH;FMTTYPE=image/jpeg:https://fotv.org.au/wp-content/uploads/2020/08/carolyn-v-OGND72jS-HE-unsplash-scaled.jpg
END:VEVENT
END:VCALENDAR