BEGIN:VCALENDAR
VERSION:2.0
PRODID:-//Friends Of The Village - ECPv6.15.20//NONSGML v1.0//EN
CALSCALE:GREGORIAN
METHOD:PUBLISH
X-WR-CALNAME:Friends Of The Village
X-ORIGINAL-URL:https://fotv.org.au
X-WR-CALDESC:Events for Friends Of The Village
REFRESH-INTERVAL;VALUE=DURATION:PT1H
X-Robots-Tag:noindex
X-PUBLISHED-TTL:PT1H
BEGIN:VTIMEZONE
TZID:Australia/Sydney
BEGIN:STANDARD
TZOFFSETFROM:+1100
TZOFFSETTO:+1000
TZNAME:AEST
DTSTART:20210403T160000
END:STANDARD
BEGIN:DAYLIGHT
TZOFFSETFROM:+1000
TZOFFSETTO:+1100
TZNAME:AEDT
DTSTART:20211002T160000
END:DAYLIGHT
BEGIN:STANDARD
TZOFFSETFROM:+1100
TZOFFSETTO:+1000
TZNAME:AEST
DTSTART:20220402T160000
END:STANDARD
BEGIN:DAYLIGHT
TZOFFSETFROM:+1000
TZOFFSETTO:+1100
TZNAME:AEDT
DTSTART:20221001T160000
END:DAYLIGHT
BEGIN:STANDARD
TZOFFSETFROM:+1100
TZOFFSETTO:+1000
TZNAME:AEST
DTSTART:20230401T160000
END:STANDARD
BEGIN:DAYLIGHT
TZOFFSETFROM:+1000
TZOFFSETTO:+1100
TZNAME:AEDT
DTSTART:20230930T160000
END:DAYLIGHT
END:VTIMEZONE
BEGIN:VEVENT
DTSTART;TZID=Australia/Sydney:20220614T143000
DTEND;TZID=Australia/Sydney:20220614T153000
DTSTAMP:20260426T123754
CREATED:20220615T102115Z
LAST-MODIFIED:20220615T102115Z
UID:5598-1655217000-1655220600@fotv.org.au
SUMMARY:Stage 3 - Coffee Catch Up
DESCRIPTION:Stage 3 catch up at Roasted (LLV’s student cafe)
URL:https://fotv.org.au/event/stage-3-coffee-catch-up-2/
LOCATION:Lindfield Learning Village\, 100 Eton Rd\, Lindfield\, NSW\, 2070\, Australia
CATEGORIES:Social Event
ATTACH;FMTTYPE=image/jpeg:https://fotv.org.au/wp-content/uploads/2021/03/nathan-dumlao-6VhPY27jdps-unsplash-scaled.jpg
END:VEVENT
BEGIN:VEVENT
DTSTART;TZID=Australia/Sydney:20220614T193000
DTEND;TZID=Australia/Sydney:20220614T210000
DTSTAMP:20260426T123754
CREATED:20220307T074420Z
LAST-MODIFIED:20220307T074615Z
UID:5097-1655235000-1655240400@fotv.org.au
SUMMARY:FOTV General Meeting - Term 2
DESCRIPTION:Zoom details will be communicated via private channels closer to the date. \nPlease contact us at friends@llv.community if you haven’t seen the details.
URL:https://fotv.org.au/event/fotv-general-meeting-term-2/
CATEGORIES:Meeting
ATTACH;FMTTYPE=image/jpeg:https://fotv.org.au/wp-content/uploads/2020/08/hannah-busing-Zyx1bK9mqmA-unsplash-scaled.jpg
END:VEVENT
BEGIN:VEVENT
DTSTART;TZID=Australia/Sydney:20220621T143000
DTEND;TZID=Australia/Sydney:20220621T153000
DTSTAMP:20260426T123754
CREATED:20220615T102349Z
LAST-MODIFIED:20230220T102458Z
UID:5600-1655821800-1655825400@fotv.org.au
SUMMARY:Stage 2 - Coffee Catch up
DESCRIPTION:21st June\, 2.30pm\, Stage 2 catch up at Roasted (LLV’s student cafe)
URL:https://fotv.org.au/event/stage-2-coffee-catch-up/
LOCATION:Lindfield Learning Village\, 100 Eton Rd\, Lindfield\, NSW\, 2070\, Australia
CATEGORIES:Social Event
ATTACH;FMTTYPE=image/jpeg:https://fotv.org.au/wp-content/uploads/2021/03/nathan-dumlao-6VhPY27jdps-unsplash-scaled.jpg
END:VEVENT
BEGIN:VEVENT
DTSTART;TZID=Australia/Sydney:20220625T150000
DTEND;TZID=Australia/Sydney:20220625T200000
DTSTAMP:20260426T123754
CREATED:20220602T031916Z
LAST-MODIFIED:20220602T054648Z
UID:5521-1656169200-1656187200@fotv.org.au
SUMMARY:3-6 Hub (Stage 2 & 3) - Event at the Diddy
DESCRIPTION:Join other LLV 3-6 hub families for a catch up at The Diddy (aka Longueville Sporting Club\, Cnr Kenneth St & River Rd\, Longueville)\, from 3pm onwards\, on Saturday 25th June. Check out their website here: https://www.thediddy.com.au/ \nThe whole family is welcome. The kids are free to run around on the upper green (BYO soccer ball or skipping rope)\, while the adults mingle on the terrace. \nBuy your own drinks / dinner. (The food is nice\, hot\, affordable\, and available all day. Check out the menu here: https://www.lussokitchen.com.au/) \nNo ticket charge\, but please RSVP to your socialite (for both adults and kids) so we can keep an eye on numbers. 🙂 \nWe look forward to seeing you there!xx Louise\, Ruth & Danya
URL:https://fotv.org.au/event/stages-2-3-3-6-hub-event-at-the-diddy/
CATEGORIES:Social Event
ATTACH;FMTTYPE=image/jpeg:https://fotv.org.au/wp-content/uploads/2021/04/IMG_2312.jpeg
END:VEVENT
END:VCALENDAR