BEGIN:VCALENDAR
VERSION:2.0
PRODID:-//Friends Of The Village - ECPv6.15.20//NONSGML v1.0//EN
CALSCALE:GREGORIAN
METHOD:PUBLISH
X-ORIGINAL-URL:https://fotv.org.au
X-WR-CALDESC:Events for Friends Of The Village
REFRESH-INTERVAL;VALUE=DURATION:PT1H
X-Robots-Tag:noindex
X-PUBLISHED-TTL:PT1H
BEGIN:VTIMEZONE
TZID:Australia/Sydney
BEGIN:STANDARD
TZOFFSETFROM:+1100
TZOFFSETTO:+1000
TZNAME:AEST
DTSTART:20200404T160000
END:STANDARD
BEGIN:DAYLIGHT
TZOFFSETFROM:+1000
TZOFFSETTO:+1100
TZNAME:AEDT
DTSTART:20201003T160000
END:DAYLIGHT
BEGIN:STANDARD
TZOFFSETFROM:+1100
TZOFFSETTO:+1000
TZNAME:AEST
DTSTART:20210403T160000
END:STANDARD
BEGIN:DAYLIGHT
TZOFFSETFROM:+1000
TZOFFSETTO:+1100
TZNAME:AEDT
DTSTART:20211002T160000
END:DAYLIGHT
BEGIN:STANDARD
TZOFFSETFROM:+1100
TZOFFSETTO:+1000
TZNAME:AEST
DTSTART:20220402T160000
END:STANDARD
BEGIN:DAYLIGHT
TZOFFSETFROM:+1000
TZOFFSETTO:+1100
TZNAME:AEDT
DTSTART:20221001T160000
END:DAYLIGHT
END:VTIMEZONE
BEGIN:VEVENT
DTSTART;TZID=Australia/Sydney:20211104T190000
DTEND;TZID=Australia/Sydney:20211104T210000
DTSTAMP:20260424T013846
CREATED:20210403T013507Z
LAST-MODIFIED:20211124T094729Z
UID:2748-1636052400-1636059600@fotv.org.au
SUMMARY:FOTV Leadership Team Meeting
DESCRIPTION:
URL:https://fotv.org.au/event/fotv-leadership-team-meeting-9/
CATEGORIES:Meeting
ATTACH;FMTTYPE=image/jpeg:https://fotv.org.au/wp-content/uploads/2021/04/marvin-meyer-SYTO3xs06fU-unsplash-scaled.jpg
END:VEVENT
BEGIN:VEVENT
DTSTART;TZID=Australia/Sydney:20211125T193000
DTEND;TZID=Australia/Sydney:20211125T210000
DTSTAMP:20260424T013846
CREATED:20210403T010832Z
LAST-MODIFIED:20211124T032656Z
UID:2729-1637868600-1637874000@fotv.org.au
SUMMARY:FOTV Term 4 2021 General Meeting
DESCRIPTION:Zoom link has been communicated via private channels.
URL:https://fotv.org.au/event/fotv-term-4-2021-general-meeting/
CATEGORIES:Meeting
ATTACH;FMTTYPE=image/jpeg:https://fotv.org.au/wp-content/uploads/2020/07/DesignInc-Linfield-LV-100.jpg
END:VEVENT
END:VCALENDAR