BEGIN:VCALENDAR
VERSION:2.0
PRODID:-//Friends Of The Village - ECPv6.15.20//NONSGML v1.0//EN
CALSCALE:GREGORIAN
METHOD:PUBLISH
X-ORIGINAL-URL:https://fotv.org.au
X-WR-CALDESC:Events for Friends Of The Village
REFRESH-INTERVAL;VALUE=DURATION:PT1H
X-Robots-Tag:noindex
X-PUBLISHED-TTL:PT1H
BEGIN:VTIMEZONE
TZID:Australia/Sydney
BEGIN:STANDARD
TZOFFSETFROM:+1100
TZOFFSETTO:+1000
TZNAME:AEST
DTSTART:20230401T160000
END:STANDARD
BEGIN:DAYLIGHT
TZOFFSETFROM:+1000
TZOFFSETTO:+1100
TZNAME:AEDT
DTSTART:20230930T160000
END:DAYLIGHT
BEGIN:STANDARD
TZOFFSETFROM:+1100
TZOFFSETTO:+1000
TZNAME:AEST
DTSTART:20240406T160000
END:STANDARD
BEGIN:DAYLIGHT
TZOFFSETFROM:+1000
TZOFFSETTO:+1100
TZNAME:AEDT
DTSTART:20241005T160000
END:DAYLIGHT
BEGIN:STANDARD
TZOFFSETFROM:+1100
TZOFFSETTO:+1000
TZNAME:AEST
DTSTART:20250405T160000
END:STANDARD
BEGIN:DAYLIGHT
TZOFFSETFROM:+1000
TZOFFSETTO:+1100
TZNAME:AEDT
DTSTART:20251004T160000
END:DAYLIGHT
END:VTIMEZONE
BEGIN:VEVENT
DTSTART;TZID=Australia/Sydney:20240804T140000
DTEND;TZID=Australia/Sydney:20240804T160000
DTSTAMP:20260422T111358
CREATED:20240205T000931Z
LAST-MODIFIED:20240205T000936Z
UID:7774-1722780000-1722787200@fotv.org.au
SUMMARY:Stage 1: Ice skating at Macquarie Ice Rink
DESCRIPTION:
URL:https://fotv.org.au/event/stage-1-ice-skating-at-macquarie-ice-rink/
LOCATION:Macquarie Ice Rink
CATEGORIES:Social Event
ATTACH;FMTTYPE=image/jpeg:https://fotv.org.au/wp-content/uploads/2024/02/ice-skating-rink.jpg
END:VEVENT
BEGIN:VEVENT
DTSTART;TZID=Australia/Sydney:20240813T193000
DTEND;TZID=Australia/Sydney:20240813T210000
DTSTAMP:20260422T111358
CREATED:20240512T135553Z
LAST-MODIFIED:20240512T135558Z
UID:8407-1723577400-1723582800@fotv.org.au
SUMMARY:FOTV Term 3 General Meeting
DESCRIPTION:
URL:https://fotv.org.au/event/fotv-term-3-general-meeting-2/
LOCATION:NSW
CATEGORIES:Meeting
ATTACH;FMTTYPE=image/jpeg:https://fotv.org.au/wp-content/uploads/2024/05/B9315893580Z.1_20150117135535_000_G309MVCCC.1-0.jpg
END:VEVENT
BEGIN:VEVENT
DTSTART;TZID=Australia/Sydney:20240817T133000
DTEND;TZID=Australia/Sydney:20240817T153000
DTSTAMP:20260422T111358
CREATED:20240812T033013Z
LAST-MODIFIED:20240812T033015Z
UID:8756-1723901400-1723908600@fotv.org.au
SUMMARY:Community Volunteers: Growing Food for Wildlife Hornsby Launch
DESCRIPTION:We meet once a month across multiple sites to grow\, collect and learn about the food that wildlife need. \n\n\n\nA few lovely LLV families are volunteering to helpGrowing Food for Wildlife lauch their new Hornsby site:https://events.humanitix.com/growing-food-for-wildlife-project-pennant-hills-hornsby \n\n\n\nAnyone want to join us? \n\n\n\nThen this will be ongoing at this site 1.30-3.30pm second Saturday of the month. (Please register for insurance purposes). \n\n\n\nAccess via 19 Wearne ave\, Head west across the concrete bridge and look for signage\, 19 Wearne Avenue\, Pennant Hills\, New South Wales\, 2120\, Australia
URL:https://fotv.org.au/event/community-volunteers-growing-food-for-wildlife-hornsby-launch/
LOCATION:Growing Food for Wildlife Hornsby site\, 19 Wearne Ave\, Pennant Hills\, NSW\, 2120\, Australia
CATEGORIES:Community Event
ATTACH;FMTTYPE=image/jpeg:https://fotv.org.au/wp-content/uploads/2024/08/Brushtail.jpg
END:VEVENT
BEGIN:VEVENT
DTSTART;TZID=Australia/Sydney:20240820T140000
DTEND;TZID=Australia/Sydney:20240820T150000
DTSTAMP:20260422T111358
CREATED:20240807T062845Z
LAST-MODIFIED:20240807T062847Z
UID:8726-1724162400-1724166000@fotv.org.au
SUMMARY:Book Week 2024 Costume Parade
DESCRIPTION:
URL:https://fotv.org.au/event/book-week-2024-costume-parade/
LOCATION:Lindfield Learning Village\, 100 Eton Rd\, Lindfield\, NSW\, 2070\, Australia
ATTACH;FMTTYPE=image/png:https://fotv.org.au/wp-content/uploads/2024/08/image-1.png
END:VEVENT
BEGIN:VEVENT
DTSTART;TZID=Australia/Sydney:20240822T160000
DTEND;TZID=Australia/Sydney:20240822T190000
DTSTAMP:20260422T111358
CREATED:20240816T070537Z
LAST-MODIFIED:20240816T070539Z
UID:8859-1724342400-1724353200@fotv.org.au
SUMMARY:Inspired - Stage 6
DESCRIPTION:
URL:https://fotv.org.au/event/inspired-stage-6/
LOCATION:Lindfield Learning Village\, 100 Eton Rd\, Lindfield\, NSW\, 2070\, Australia
END:VEVENT
BEGIN:VEVENT
DTSTART;TZID=Australia/Sydney:20240830T090000
DTEND;TZID=Australia/Sydney:20240830T150000
DTSTAMP:20260422T111358
CREATED:20240807T061007Z
LAST-MODIFIED:20240807T061010Z
UID:8722-1725008400-1725030000@fotv.org.au
SUMMARY:Wear It Purple Day
DESCRIPTION:
URL:https://fotv.org.au/event/wear-it-purple-day/
LOCATION:Lindfield Learning Village\, 100 Eton Rd\, Lindfield\, NSW\, 2070\, Australia
CATEGORIES:Community Event
ATTACH;FMTTYPE=image/jpeg:https://fotv.org.au/wp-content/uploads/2024/08/Screenshot-2024-08-07-160852.jpg
END:VEVENT
END:VCALENDAR