BEGIN:VCALENDAR
VERSION:2.0
PRODID:-//Friends Of The Village - ECPv6.15.20//NONSGML v1.0//EN
CALSCALE:GREGORIAN
METHOD:PUBLISH
X-ORIGINAL-URL:https://fotv.org.au
X-WR-CALDESC:Events for Friends Of The Village
REFRESH-INTERVAL;VALUE=DURATION:PT1H
X-Robots-Tag:noindex
X-PUBLISHED-TTL:PT1H
BEGIN:VTIMEZONE
TZID:Australia/Sydney
BEGIN:STANDARD
TZOFFSETFROM:+1100
TZOFFSETTO:+1000
TZNAME:AEST
DTSTART:20230401T160000
END:STANDARD
BEGIN:DAYLIGHT
TZOFFSETFROM:+1000
TZOFFSETTO:+1100
TZNAME:AEDT
DTSTART:20230930T160000
END:DAYLIGHT
BEGIN:STANDARD
TZOFFSETFROM:+1100
TZOFFSETTO:+1000
TZNAME:AEST
DTSTART:20240406T160000
END:STANDARD
BEGIN:DAYLIGHT
TZOFFSETFROM:+1000
TZOFFSETTO:+1100
TZNAME:AEDT
DTSTART:20241005T160000
END:DAYLIGHT
BEGIN:STANDARD
TZOFFSETFROM:+1100
TZOFFSETTO:+1000
TZNAME:AEST
DTSTART:20250405T160000
END:STANDARD
BEGIN:DAYLIGHT
TZOFFSETFROM:+1000
TZOFFSETTO:+1100
TZNAME:AEDT
DTSTART:20251004T160000
END:DAYLIGHT
END:VTIMEZONE
BEGIN:VEVENT
DTSTART;TZID=Australia/Sydney:20240703T090000
DTEND;TZID=Australia/Sydney:20240703T150000
DTSTAMP:20260423T190825
CREATED:20240308T082149Z
LAST-MODIFIED:20240625T000640Z
UID:8023-1719997200-1720018800@fotv.org.au
SUMMARY:Zone Athletics - SECONDARY Students
DESCRIPTION:
URL:https://fotv.org.au/event/zone-athletics/
LOCATION:NSW
CATEGORIES:School Event
ATTACH;FMTTYPE=image/jpeg:https://fotv.org.au/wp-content/uploads/2023/03/download-4.jpg
END:VEVENT
BEGIN:VEVENT
DTSTART;TZID=Australia/Sydney:20240703T153000
DTEND;TZID=Australia/Sydney:20240703T180000
DTSTAMP:20260423T190825
CREATED:20240223T022320Z
LAST-MODIFIED:20240602T083725Z
UID:7871-1720020600-1720029600@fotv.org.au
SUMMARY:2024 Book Fair
DESCRIPTION:
URL:https://fotv.org.au/event/2024-book-fair/
LOCATION:Lindfield Learning Village\, 100 Eton Rd\, Lindfield\, NSW\, 2070\, Australia
CATEGORIES:Fundraising Event
ATTACH;FMTTYPE=image/png:https://fotv.org.au/wp-content/uploads/2024/02/unnamed-3.png
END:VEVENT
BEGIN:VEVENT
DTSTART;TZID=Australia/Sydney:20240703T153000
DTEND;TZID=Australia/Sydney:20240703T183000
DTSTAMP:20260423T190825
CREATED:20240122T011013Z
LAST-MODIFIED:20240602T083526Z
UID:7759-1720020600-1720031400@fotv.org.au
SUMMARY:Save the date: Winterfest and book fair 2024
DESCRIPTION:
URL:https://fotv.org.au/event/save-the-date-winterfest-2024/
LOCATION:Lindfield Learning Village\, 100 Eton Rd\, Lindfield\, NSW\, 2070\, Australia
CATEGORIES:School Event
ATTACH;FMTTYPE=image/jpeg:https://fotv.org.au/wp-content/uploads/2023/04/winterfestlaporte-1024x536-1.jpg
END:VEVENT
BEGIN:VEVENT
DTSTART;TZID=Australia/Sydney:20240703T160000
DTEND;TZID=Australia/Sydney:20240703T180000
DTSTAMP:20260423T190825
CREATED:20240223T022145Z
LAST-MODIFIED:20240429T034612Z
UID:7864-1720022400-1720029600@fotv.org.au
SUMMARY:FOTV Raffle - drawn 3rd July
DESCRIPTION:
URL:https://fotv.org.au/event/fotv-raffle-drawn-3rd-july/
LOCATION:NSW
CATEGORIES:Fundraising Event
ATTACH;FMTTYPE=image/png:https://fotv.org.au/wp-content/uploads/2024/02/unnamed-4.png
END:VEVENT
BEGIN:VEVENT
DTSTART;TZID=Australia/Sydney:20240705T090000
DTEND;TZID=Australia/Sydney:20240705T150000
DTSTAMP:20260423T190825
CREATED:20240122T005521Z
LAST-MODIFIED:20240122T005526Z
UID:7740-1720170000-1720191600@fotv.org.au
SUMMARY:Last day of school for term 2
DESCRIPTION:
URL:https://fotv.org.au/event/last-day-of-school-for-term-2/
LOCATION:NSW
CATEGORIES:School Event
ATTACH;FMTTYPE=image/webp:https://fotv.org.au/wp-content/uploads/2024/01/logo-for-winter-holidays-vector-22424730.webp
END:VEVENT
BEGIN:VEVENT
DTSTART;TZID=Australia/Sydney:20240711T100000
DTEND;TZID=Australia/Sydney:20240711T120000
DTSTAMP:20260423T190825
CREATED:20240602T083317Z
LAST-MODIFIED:20240602T083325Z
UID:8530-1720692000-1720699200@fotv.org.au
SUMMARY:The I am Project - PRIMARY students Holiday workshop
DESCRIPTION:Candyland Is Calling Workshop \n\n\n\nGoats Milk Candy themed Soap & Shea Butter Lip Balm – YEARS 3-6 students only
URL:https://fotv.org.au/event/the-i-am-project-primary-students-holiday-workshop/
LOCATION:The I am Project Australia\, 106 Pacific Highway\, Roseville\, Australia
CATEGORIES:Community Event,Fundraising Event,Social Event
ATTACH;FMTTYPE=image/jpeg:https://fotv.org.au/wp-content/uploads/2024/06/4.jpg
ORGANIZER;CN="FOTV Fundraising and Events team":MAILTO:fundraising@llv.community
END:VEVENT
BEGIN:VEVENT
DTSTART;TZID=Australia/Sydney:20240711T130000
DTEND;TZID=Australia/Sydney:20240711T150000
DTSTAMP:20260423T190825
CREATED:20240602T083019Z
LAST-MODIFIED:20240603T025051Z
UID:8526-1720702800-1720710000@fotv.org.au
SUMMARY:The I am Project - HIGH SCHOOLERS workshop
DESCRIPTION:Skincare Essentials Workshop \n\n\n\nPlant Based Gentle Moisturiser & Lip Oil – Workshop for High School Students only
URL:https://fotv.org.au/event/the-i-am-project-high-schoolers-workshop/
LOCATION:The I am Project Australia\, 106 Pacific Highway\, Roseville\, Australia
CATEGORIES:Community Event,Fundraising Event,Social Event
ATTACH;FMTTYPE=image/jpeg:https://fotv.org.au/wp-content/uploads/2024/06/2.jpg
ORGANIZER;CN="FOTV Fundraising and Events team":MAILTO:fundraising@llv.community
END:VEVENT
BEGIN:VEVENT
DTSTART;TZID=Australia/Sydney:20240718T140000
DTEND;TZID=Australia/Sydney:20240722T100000
DTSTAMP:20260423T190825
CREATED:20231018T015951Z
LAST-MODIFIED:20231018T015956Z
UID:7560-1721311200-1721642400@fotv.org.au
SUMMARY:2024 LLV Families Ski Trip!!
DESCRIPTION:
URL:https://fotv.org.au/event/2024-llv-families-ski-trip/
LOCATION:Ski Rider Hotel\, PMB 10\, Kosciuszko Road\, Wilsons Valley\, NSW\, 2627\, Australia
CATEGORIES:Social Event
ATTACH;FMTTYPE=image/jpeg:https://fotv.org.au/wp-content/uploads/2022/02/Skiing-kids.jpeg
END:VEVENT
BEGIN:VEVENT
DTSTART;TZID=Australia/Sydney:20240723T090000
DTEND;TZID=Australia/Sydney:20240723T150000
DTSTAMP:20260423T190825
CREATED:20240122T005909Z
LAST-MODIFIED:20240122T005914Z
UID:7744-1721725200-1721746800@fotv.org.au
SUMMARY:First day of term 3 for students
DESCRIPTION:
URL:https://fotv.org.au/event/first-day-of-term-3-for-students/
LOCATION:NSW
CATEGORIES:Social Event
ATTACH;FMTTYPE=image/jpeg:https://fotv.org.au/wp-content/uploads/2024/01/download-1.jpeg
END:VEVENT
END:VCALENDAR