BEGIN:VCALENDAR
VERSION:2.0
PRODID:-//Friends Of The Village - ECPv6.15.20//NONSGML v1.0//EN
CALSCALE:GREGORIAN
METHOD:PUBLISH
X-ORIGINAL-URL:https://fotv.org.au
X-WR-CALDESC:Events for Friends Of The Village
REFRESH-INTERVAL;VALUE=DURATION:PT1H
X-Robots-Tag:noindex
X-PUBLISHED-TTL:PT1H
BEGIN:VTIMEZONE
TZID:Australia/Sydney
BEGIN:STANDARD
TZOFFSETFROM:+1100
TZOFFSETTO:+1000
TZNAME:AEST
DTSTART:20230401T160000
END:STANDARD
BEGIN:DAYLIGHT
TZOFFSETFROM:+1000
TZOFFSETTO:+1100
TZNAME:AEDT
DTSTART:20230930T160000
END:DAYLIGHT
BEGIN:STANDARD
TZOFFSETFROM:+1100
TZOFFSETTO:+1000
TZNAME:AEST
DTSTART:20240406T160000
END:STANDARD
BEGIN:DAYLIGHT
TZOFFSETFROM:+1000
TZOFFSETTO:+1100
TZNAME:AEDT
DTSTART:20241005T160000
END:DAYLIGHT
BEGIN:STANDARD
TZOFFSETFROM:+1100
TZOFFSETTO:+1000
TZNAME:AEST
DTSTART:20250405T160000
END:STANDARD
BEGIN:DAYLIGHT
TZOFFSETFROM:+1000
TZOFFSETTO:+1100
TZNAME:AEDT
DTSTART:20251004T160000
END:DAYLIGHT
END:VTIMEZONE
BEGIN:VEVENT
DTSTART;TZID=Australia/Sydney:20240308T090000
DTEND;TZID=Australia/Sydney:20240322T093000
DTSTAMP:20260423T101509
CREATED:20240223T022927Z
LAST-MODIFIED:20240322T031142Z
UID:7877-1709888400-1711099800@fotv.org.au
SUMMARY:Hot Cross Buns - order by 22 March 2024
DESCRIPTION:Bread and butter project sour dough hot cross buns are seriously the yummiest ever….
URL:https://fotv.org.au/event/hot-cross-buns-order-by-22-march-2024/
LOCATION:NSW
ATTACH;FMTTYPE=image/jpeg:https://fotv.org.au/wp-content/uploads/2024/02/unnamed-1.jpg
END:VEVENT
END:VCALENDAR